BEGIN:VCALENDAR
VERSION:2.0
PRODID:-//City of West Plains - ECPv6.14.2//NONSGML v1.0//EN
CALSCALE:GREGORIAN
METHOD:PUBLISH
X-WR-CALNAME:City of West Plains
X-ORIGINAL-URL:https://westplains.gov
X-WR-CALDESC:Events for City of West Plains
REFRESH-INTERVAL;VALUE=DURATION:PT1H
X-Robots-Tag:noindex
X-PUBLISHED-TTL:PT1H
BEGIN:VTIMEZONE
TZID:America/New_York
BEGIN:DAYLIGHT
TZOFFSETFROM:-0500
TZOFFSETTO:-0400
TZNAME:EDT
DTSTART:20230312T070000
END:DAYLIGHT
BEGIN:STANDARD
TZOFFSETFROM:-0400
TZOFFSETTO:-0500
TZNAME:EST
DTSTART:20231105T060000
END:STANDARD
END:VTIMEZONE
BEGIN:VTIMEZONE
TZID:UTC
BEGIN:STANDARD
TZOFFSETFROM:+0000
TZOFFSETTO:+0000
TZNAME:UTC
DTSTART:20230101T000000
END:STANDARD
END:VTIMEZONE
BEGIN:VEVENT
DTSTART;TZID=America/New_York:20231216T190000
DTEND;TZID=America/New_York:20231216T190000
DTSTAMP:20260420T023621
CREATED:20230905T204053Z
LAST-MODIFIED:20230905T204053Z
UID:5976-1702753200-1702753200@westplains.gov
SUMMARY:Children's Ballet of the Ozarks- The Nutcracker
DESCRIPTION:Located in theater
URL:https://westplains.gov/event/childrens-ballet-of-the-ozarks-the-nutcracker-6/
LOCATION:Civic Center
CATEGORIES:Civic Center
END:VEVENT
BEGIN:VEVENT
DTSTART;TZID=America/New_York:20231216T150000
DTEND;TZID=America/New_York:20231216T150000
DTSTAMP:20260420T023621
CREATED:20230905T204028Z
LAST-MODIFIED:20230905T204028Z
UID:5974-1702738800-1702738800@westplains.gov
SUMMARY:Children's Ballet of the Ozarks- The Nutcracker
DESCRIPTION:Located in theater
URL:https://westplains.gov/event/childrens-ballet-of-the-ozarks-the-nutcracker-5/
LOCATION:Civic Center
CATEGORIES:Civic Center
END:VEVENT
BEGIN:VEVENT
DTSTART;TZID=America/New_York:20231215T190000
DTEND;TZID=America/New_York:20231215T190000
DTSTAMP:20260420T023621
CREATED:20230905T203958Z
LAST-MODIFIED:20230905T203958Z
UID:5972-1702666800-1702666800@westplains.gov
SUMMARY:Children's Ballet of the Ozarks- The Nutcracker
DESCRIPTION:Located in theater
URL:https://westplains.gov/event/childrens-ballet-of-the-ozarks-the-nutcracker-4/
LOCATION:Civic Center
CATEGORIES:Civic Center
END:VEVENT
BEGIN:VEVENT
DTSTART;TZID=America/New_York:20231213T180000
DTEND;TZID=America/New_York:20231213T180000
DTSTAMP:20260420T023621
CREATED:20230905T204421Z
LAST-MODIFIED:20230905T204421Z
UID:5978-1702490400-1702490400@westplains.gov
SUMMARY:MSU-WP Grizzlies Basketball VS Missouri Baptist
DESCRIPTION:Located in Arena
URL:https://westplains.gov/event/msu-wp-grizzlies-basketball-vs-missouri-baptist/
LOCATION:Civic Center
CATEGORIES:Civic Center
END:VEVENT
BEGIN:VEVENT
DTSTART;TZID=America/New_York:20231209T190000
DTEND;TZID=America/New_York:20231209T190000
DTSTAMP:20260420T023621
CREATED:20230905T203926Z
LAST-MODIFIED:20230905T203926Z
UID:5970-1702148400-1702148400@westplains.gov
SUMMARY:Children's Ballet of the Ozarks- The Nutcracker
DESCRIPTION:Located in theater
URL:https://westplains.gov/event/childrens-ballet-of-the-ozarks-the-nutcracker-3/
LOCATION:Civic Center
CATEGORIES:Civic Center
END:VEVENT
BEGIN:VEVENT
DTSTART;TZID=America/New_York:20231209T150000
DTEND;TZID=America/New_York:20231209T150000
DTSTAMP:20260420T023621
CREATED:20230905T203857Z
LAST-MODIFIED:20230905T203857Z
UID:5968-1702134000-1702134000@westplains.gov
SUMMARY:Children's Ballet of the Ozarks- The Nutcracker
DESCRIPTION:Located in theater
URL:https://westplains.gov/event/childrens-ballet-of-the-ozarks-the-nutcracker-2/
LOCATION:Civic Center
CATEGORIES:Civic Center
END:VEVENT
BEGIN:VEVENT
DTSTART;TZID=America/New_York:20231209T083000
DTEND;TZID=America/New_York:20231209T110000
DTSTAMP:20260420T023621
CREATED:20231128T182151Z
LAST-MODIFIED:20231128T182151Z
UID:7000-1702110600-1702119600@westplains.gov
SUMMARY:Cookies with Claus
DESCRIPTION:Located in Arena. $3 entry fee – cash only.
URL:https://westplains.gov/event/cookies-with-claus/
LOCATION:Civic Center
CATEGORIES:Civic Center
END:VEVENT
BEGIN:VEVENT
DTSTART;TZID=America/New_York:20231208T190000
DTEND;TZID=America/New_York:20231208T190000
DTSTAMP:20260420T023621
CREATED:20230905T203808Z
LAST-MODIFIED:20230905T203808Z
UID:5966-1702062000-1702062000@westplains.gov
SUMMARY:Children's Ballet of the Ozarks- The Nutcracker
DESCRIPTION:Located in theater
URL:https://westplains.gov/event/childrens-ballet-of-the-ozarks-the-nutcracker/
LOCATION:Civic Center
CATEGORIES:Civic Center
END:VEVENT
BEGIN:VEVENT
DTSTART;TZID=America/New_York:20231207T120000
DTEND;TZID=America/New_York:20231207T130000
DTSTAMP:20260420T023621
CREATED:20230905T203618Z
LAST-MODIFIED:20230905T203618Z
UID:5964-1701950400-1701954000@westplains.gov
SUMMARY:West Plains Chamber of Commerce Meeting
DESCRIPTION:Located in Magnolia Room
URL:https://westplains.gov/event/west-plains-chamber-of-commerce-meeting-5/
LOCATION:Civic Center
CATEGORIES:Civic Center
END:VEVENT
BEGIN:VEVENT
DTSTART;TZID=America/New_York:20231203T163000
DTEND;TZID=America/New_York:20231203T193000
DTSTAMP:20260420T023621
CREATED:20230905T203522Z
LAST-MODIFIED:20230905T203522Z
UID:5962-1701621000-1701631800@westplains.gov
SUMMARY:High School Sports Banquet - Ozarks Marketing
DESCRIPTION:Located in Magnolia Room
URL:https://westplains.gov/event/high-school-sports-banquet-ozarks-marketing/
LOCATION:Civic Center
CATEGORIES:Civic Center
END:VEVENT
BEGIN:VEVENT
DTSTART;TZID=America/New_York:20231203T150000
DTEND;TZID=America/New_York:20231203T170000
DTSTAMP:20260420T023621
CREATED:20230905T203420Z
LAST-MODIFIED:20230905T203420Z
UID:5960-1701615600-1701622800@westplains.gov
SUMMARY:Mr. and Miss. Merry Christmas
DESCRIPTION:Located in theater
URL:https://westplains.gov/event/mr-and-miss-merry-christmas/
LOCATION:Civic Center
CATEGORIES:Civic Center
END:VEVENT
BEGIN:VEVENT
DTSTART;TZID=America/New_York:20231203T100000
DTEND;TZID=America/New_York:20231203T150000
DTSTAMP:20260420T023621
CREATED:20230905T203134Z
LAST-MODIFIED:20230905T203134Z
UID:5956-1701597600-1701615600@westplains.gov
SUMMARY:Optimist Club Arts and Crafts Show
DESCRIPTION:Located in Arena
URL:https://westplains.gov/event/optimist-club-arts-and-crafts-show-2/
LOCATION:Civic Center
CATEGORIES:Civic Center
END:VEVENT
BEGIN:VEVENT
DTSTART;TZID=America/New_York:20231202T140000
DTEND;TZID=America/New_York:20231202T160000
DTSTAMP:20260420T023621
CREATED:20230905T203304Z
LAST-MODIFIED:20230905T203304Z
UID:5958-1701525600-1701532800@westplains.gov
SUMMARY:West Plains Council on the Arts Deck the Halls Reception
DESCRIPTION:Located in Magnolia Room
URL:https://westplains.gov/event/west-plains-council-on-the-arts-deck-the-halls-reception/
CATEGORIES:Civic Center
END:VEVENT
BEGIN:VEVENT
DTSTART;TZID=America/New_York:20231202T083000
DTEND;TZID=America/New_York:20231202T170000
DTSTAMP:20260420T023621
CREATED:20230905T203050Z
LAST-MODIFIED:20230905T203050Z
UID:5954-1701505800-1701536400@westplains.gov
SUMMARY:Optimist Club Arts and Crafts Show
DESCRIPTION:Located in Arena
URL:https://westplains.gov/event/optimist-club-arts-and-crafts-show/
LOCATION:Civic Center
CATEGORIES:Civic Center
END:VEVENT
BEGIN:VEVENT
DTSTART;TZID=America/New_York:20231201T183000
DTEND;TZID=America/New_York:20231201T183000
DTSTAMP:20260420T023621
CREATED:20230905T202758Z
LAST-MODIFIED:20231130T153907Z
UID:5952-1701455400-1701455400@westplains.gov
SUMMARY:Impact Dance Christmas Recital
DESCRIPTION:Located in Theater. \nTickets available at the door.
URL:https://westplains.gov/event/impact-dance-christmas-recital/
LOCATION:Civic Center
CATEGORIES:Civic Center
END:VEVENT
BEGIN:VEVENT
DTSTART;TZID=UTC:20231128T190000
DTEND;TZID=UTC:20231128T193000
DTSTAMP:20260420T023621
CREATED:20230803T224854Z
LAST-MODIFIED:20230803T224854Z
UID:5439-1701198000-1701199800@westplains.gov
SUMMARY:MSU-WP Grizzly Basketball VS Northeastern Oklahoma
DESCRIPTION:https://www.ticketmaster.com/event/06005EE6E4C15F3B
URL:https://westplains.gov/event/msu-wp-grizzly-basketball-vs-northeastern-oklahoma/
LOCATION:Civic Center
CATEGORIES:Civic Center
END:VEVENT
BEGIN:VEVENT
DTSTART;TZID=UTC:20231125T170000
DTEND;TZID=UTC:20231125T170000
DTSTAMP:20260420T023621
CREATED:20230803T224754Z
LAST-MODIFIED:20230803T224754Z
UID:5437-1700931600-1700931600@westplains.gov
SUMMARY:MSU-WP Grizzly Basketball Tournament
DESCRIPTION:https://www.ticketmaster.com/event/06005EE6E4BD5F37
URL:https://westplains.gov/event/msu-wp-grizzly-basketball-tournament-4/
LOCATION:Civic Center
CATEGORIES:Civic Center
END:VEVENT
BEGIN:VEVENT
DTSTART;TZID=UTC:20231124T170000
DTEND;TZID=UTC:20231124T170000
DTSTAMP:20260420T023621
CREATED:20230803T224644Z
LAST-MODIFIED:20230803T224644Z
UID:5435-1700845200-1700845200@westplains.gov
SUMMARY:MSU-WP Grizzly Basketball Tournament
DESCRIPTION:https://www.ticketmaster.com/event/06005EE6E4BA5F2E
URL:https://westplains.gov/event/msu-wp-grizzly-basketball-tournament-3/
LOCATION:Civic Center
CATEGORIES:Civic Center
END:VEVENT
BEGIN:VEVENT
DTSTART;VALUE=DATE:20231123
DTEND;VALUE=DATE:20231124
DTSTAMP:20260420T023621
CREATED:20230803T224538Z
LAST-MODIFIED:20230803T224538Z
UID:5433-1700697600-1700783999@westplains.gov
SUMMARY:Closed For Thanksgiving Holiday
DESCRIPTION:Entire building closed for Thanksgiving.
URL:https://westplains.gov/event/closed-for-thanksgiving-holiday/
LOCATION:Civic Center
CATEGORIES:Civic Center
END:VEVENT
BEGIN:VEVENT
DTSTART;TZID=UTC:20231121T190000
DTEND;TZID=UTC:20231121T190000
DTSTAMP:20260420T023621
CREATED:20230803T224448Z
LAST-MODIFIED:20230803T224448Z
UID:5431-1700593200-1700593200@westplains.gov
SUMMARY:MSU-WP Grizzly Basketball VS National Park
DESCRIPTION:https://www.ticketmaster.com/event/06005EE6E4B75F21
URL:https://westplains.gov/event/msu-wp-grizzly-basketball-vs-national-park/
LOCATION:Civic Center
CATEGORIES:Civic Center
END:VEVENT
BEGIN:VEVENT
DTSTART;TZID=UTC:20231118T170000
DTEND;TZID=UTC:20231118T170000
DTSTAMP:20260420T023621
CREATED:20230803T224344Z
LAST-MODIFIED:20230803T224344Z
UID:5429-1700326800-1700326800@westplains.gov
SUMMARY:MSU-WP Grizzly Basketball Tournament
DESCRIPTION:https://www.ticketmaster.com/event/06005EE6E4B25F15
URL:https://westplains.gov/event/msu-wp-grizzly-basketball-tournament-2/
LOCATION:Civic Center
CATEGORIES:Civic Center
END:VEVENT
BEGIN:VEVENT
DTSTART;TZID=UTC:20231117T170000
DTEND;TZID=UTC:20231117T170000
DTSTAMP:20260420T023621
CREATED:20230803T224301Z
LAST-MODIFIED:20230803T224301Z
UID:5427-1700240400-1700240400@westplains.gov
SUMMARY:MSU-WP Grizzly Basketball Tournament
DESCRIPTION:https://www.ticketmaster.com/event/06005EE6E4B25F15
URL:https://westplains.gov/event/msu-wp-grizzly-basketball-tournament/
LOCATION:Civic Center
CATEGORIES:Civic Center
END:VEVENT
BEGIN:VEVENT
DTSTART;TZID=UTC:20231110T120000
DTEND;TZID=UTC:20231110T130000
DTSTAMP:20260420T023621
CREATED:20230803T212027Z
LAST-MODIFIED:20230803T212027Z
UID:5412-1699617600-1699621200@westplains.gov
SUMMARY:Veteran's Luncheon
DESCRIPTION:At noon or immediately following the Veteran’s Day Parade in Exhibit Hall.
URL:https://westplains.gov/event/veterans-luncheon/
LOCATION:Civic Center
CATEGORIES:Civic Center
END:VEVENT
BEGIN:VEVENT
DTSTART;TZID=UTC:20231110T100000
DTEND;TZID=UTC:20231110T150000
DTSTAMP:20260420T023621
CREATED:20230803T212417Z
LAST-MODIFIED:20230803T212504Z
UID:5420-1699610400-1699628400@westplains.gov
SUMMARY:Veteran's Day Concert
DESCRIPTION:Located in Arena.
URL:https://westplains.gov/event/veterans-day-concert/
LOCATION:Civic Center
CATEGORIES:Civic Center
END:VEVENT
BEGIN:VEVENT
DTSTART;VALUE=DATE:20231110
DTEND;VALUE=DATE:20231111
DTSTAMP:20260420T023621
CREATED:20230803T212216Z
LAST-MODIFIED:20230803T212216Z
UID:5416-1699574400-1699660799@westplains.gov
SUMMARY:Box Office Closed in Observance of Veteran's Day
DESCRIPTION:Box Office Closed All Day.
URL:https://westplains.gov/event/box-office-closed-in-observance-of-veterans-day/
LOCATION:Civic Center
CATEGORIES:Civic Center
END:VEVENT
BEGIN:VEVENT
DTSTART;TZID=UTC:20231109T170000
DTEND;TZID=UTC:20231109T170000
DTSTAMP:20260420T023621
CREATED:20230803T211828Z
LAST-MODIFIED:20230803T211828Z
UID:5410-1699549200-1699549200@westplains.gov
SUMMARY:West Plains High School Fall Theater Performance
DESCRIPTION:Located in Theater.
URL:https://westplains.gov/event/west-plains-high-school-fall-theater-performance/
LOCATION:Civic Center
CATEGORIES:Civic Center
END:VEVENT
BEGIN:VEVENT
DTSTART;TZID=UTC:20231107T080000
DTEND;TZID=UTC:20231107T200000
DTSTAMP:20260420T023621
CREATED:20230803T211601Z
LAST-MODIFIED:20230803T211601Z
UID:5408-1699344000-1699387200@westplains.gov
SUMMARY:Howell 4 - Polling Location- Election Day
DESCRIPTION:Located in Walnut Room.
URL:https://westplains.gov/event/howell-4-polling-location-election-day/
LOCATION:Civic Center
CATEGORIES:Civic Center
END:VEVENT
BEGIN:VEVENT
DTSTART;TZID=UTC:20231102T190000
DTEND;TZID=UTC:20231102T190000
DTSTAMP:20260420T023621
CREATED:20230803T211115Z
LAST-MODIFIED:20230921T150702Z
UID:5406-1698951600-1698951600@westplains.gov
SUMMARY:MSU-WP Grizzly Basketball VS Link Year
DESCRIPTION:Located in Arena. \nhttps://www.ticketmaster.com/event/06005EE6E4AF5F0D
URL:https://westplains.gov/event/msu-wp-grizzly-basketball-vs-link-year/
LOCATION:Civic Center
CATEGORIES:Civic Center
END:VEVENT
BEGIN:VEVENT
DTSTART;TZID=UTC:20231102T120000
DTEND;TZID=UTC:20231102T133000
DTSTAMP:20260420T023621
CREATED:20230803T210838Z
LAST-MODIFIED:20230803T210838Z
UID:5404-1698926400-1698931800@westplains.gov
SUMMARY:West Plains Chamber of Commerce Meeting
DESCRIPTION:Located in the Magnolia Room.
URL:https://westplains.gov/event/west-plains-chamber-of-commerce-meeting-4/
LOCATION:Civic Center
CATEGORIES:Civic Center
END:VEVENT
BEGIN:VEVENT
DTSTART;TZID=America/New_York:20231031T170000
DTEND;TZID=America/New_York:20231031T200000
DTSTAMP:20260420T023621
CREATED:20231030T215441Z
LAST-MODIFIED:20231030T215546Z
UID:6549-1698771600-1698782400@westplains.gov
SUMMARY:Trick or Treat at the PD
DESCRIPTION:We will be handing out treats and maybe a few tricks 
URL:https://westplains.gov/event/trick-or-treat-at-the-pd/
LOCATION:West Plains Police Department\, 1912 Holiday Ln\, West Plains\, MO\, 65775\, United States
CATEGORIES:Police
ATTACH;FMTTYPE=image/jpeg:https://westplains.gov/wp-content/uploads/2023/10/Trick-or-Treat-by-TheLucky-scaled.jpg
END:VEVENT
END:VCALENDAR