BEGIN:VCALENDAR
VERSION:2.0
PRODID:-//City of West Plains - ECPv6.14.2//NONSGML v1.0//EN
CALSCALE:GREGORIAN
METHOD:PUBLISH
X-WR-CALNAME:City of West Plains
X-ORIGINAL-URL:https://westplains.gov
X-WR-CALDESC:Events for City of West Plains
REFRESH-INTERVAL;VALUE=DURATION:PT1H
X-Robots-Tag:noindex
X-PUBLISHED-TTL:PT1H
BEGIN:VTIMEZONE
TZID:UTC
BEGIN:STANDARD
TZOFFSETFROM:+0000
TZOFFSETTO:+0000
TZNAME:UTC
DTSTART:20230101T000000
END:STANDARD
END:VTIMEZONE
BEGIN:VEVENT
DTSTART;VALUE=DATE:20230916
DTEND;VALUE=DATE:20231022
DTSTAMP:20260419T232711
CREATED:20230622T215417Z
LAST-MODIFIED:20230622T215417Z
UID:4922-1694822400-1697932799@westplains.gov
SUMMARY:WPCA "King of the Ozarks" Exhibit
DESCRIPTION:Located in Mezzanine.
URL:https://westplains.gov/event/wpca-king-of-the-ozarks-exhibit/
LOCATION:Civic Center
CATEGORIES:Civic Center
END:VEVENT
BEGIN:VEVENT
DTSTART;VALUE=DATE:20230913
DTEND;VALUE=DATE:20231116
DTSTAMP:20260419T232711
CREATED:20230727T034917Z
LAST-MODIFIED:20230727T074424Z
UID:5332-1694563200-1700092799@westplains.gov
SUMMARY:Community Police Academy - 2023
DESCRIPTION:Third Annual Community Police Academy  \nThe West Plains Police Department is proud to announce the start of the application process for the third annual Community Police Academy (CPA). The academy is open to all community members who live or work in the City of West Plains.  \nThe CPA will be held from September 13\, 2023\, to November 15\, 2023. Classes are conducted by various members of the department each Wednesday night from 6:00 PM to 9:00 PM at the Emergency Operations Center located at the West Plains Police Department. Applications may be found online at this link or in the lobby of the West Plains Police Department at 1912 Holiday Lane. A banquet will be held on November 15\, 2023\, for all graduates. The due date for the applications is August 23\, 2023.  \nIndividuals attending the Academy gain an in-depth look at the various divisions within the West Plains Police Department. Classroom discussions\, hands-on practical scenarios\, and a ride-along make the learning experience come alive for participants but does NOT certify attendees in any way as police officers. The knowledge gained helps to open communication and therefore promotes understanding of the very difficult yet rewarding profession of law enforcement. Here is a list of topics that will highlight the two months.  \nMeet Chief Stephen Monticelli and his Command Staff\, Tour of WPPD\, Police Reserve Officer Program\, Emergency Communications\, Patrol Procedures\, Geographic Policing\, General Investigations\, SRT Team\, SWAT\, Active Shooter\, Use of Force\, Drug Task Force\, Cyber Crimes\, Firearms Safety\, Trip to the Range\, K9 Operations\, Traffic Stops\, Crime Scene and Evidence\, Emergency Management System\, Crisis Negotiations Team\, and Practical Night. 
URL:https://westplains.gov/event/community-police-academy-2023/
CATEGORIES:Police
ATTACH;FMTTYPE=image/jpeg:https://westplains.gov/wp-content/uploads/2023/07/Citizens-Academy.jpg
END:VEVENT
BEGIN:VEVENT
DTSTART;VALUE=DATE:20230909
DTEND;VALUE=DATE:20230910
DTSTAMP:20260419T232711
CREATED:20230622T213459Z
LAST-MODIFIED:20230622T213459Z
UID:4915-1694217600-1694303999@westplains.gov
SUMMARY:West Plains R-7 Show Me Showdown
DESCRIPTION:Located in the Arena.
URL:https://westplains.gov/event/west-plains-r-7-show-me-showdown/
LOCATION:Civic Center
CATEGORIES:Civic Center
END:VEVENT
BEGIN:VEVENT
DTSTART;TZID=UTC:20230907T120000
DTEND;TZID=UTC:20230907T130000
DTSTAMP:20260419T232711
CREATED:20230622T213204Z
LAST-MODIFIED:20230622T213204Z
UID:4913-1694088000-1694091600@westplains.gov
SUMMARY:West Plains Chamber of Commerce Meeting
DESCRIPTION:Located in the Magnolia room.
URL:https://westplains.gov/event/west-plains-chamber-of-commerce-meeting-2/
LOCATION:Civic Center
CATEGORIES:Civic Center
END:VEVENT
BEGIN:VEVENT
DTSTART;VALUE=DATE:20230904
DTEND;VALUE=DATE:20230905
DTSTAMP:20260419T232711
CREATED:20230622T213058Z
LAST-MODIFIED:20230622T213058Z
UID:4911-1693785600-1693871999@westplains.gov
SUMMARY:Building Closed
DESCRIPTION:Building closed in observation of Labor Day.
URL:https://westplains.gov/event/building-closed-2/
LOCATION:Civic Center
CATEGORIES:Civic Center
END:VEVENT
BEGIN:VEVENT
DTSTART;TZID=UTC:20230829T110000
DTEND;TZID=UTC:20230829T180000
DTSTAMP:20260419T232712
CREATED:20230622T212803Z
LAST-MODIFIED:20230622T212803Z
UID:4908-1693306800-1693332000@westplains.gov
SUMMARY:American Red Cross Blood Drive
DESCRIPTION:Located in the Exhibit Hall.
URL:https://westplains.gov/event/american-red-cross-blood-drive/
LOCATION:Civic Center
CATEGORIES:Civic Center
END:VEVENT
BEGIN:VEVENT
DTSTART;TZID=UTC:20230825T100000
DTEND;TZID=UTC:20230825T110000
DTSTAMP:20260419T232712
CREATED:20230622T211225Z
LAST-MODIFIED:20230622T211225Z
UID:4906-1692957600-1692961200@westplains.gov
SUMMARY:MSU- WP Convocation Ceremony
DESCRIPTION:Convocation Ceremony for new students.
URL:https://westplains.gov/event/msu-wp-convocation-ceremony/
LOCATION:Civic Center
CATEGORIES:Civic Center
END:VEVENT
BEGIN:VEVENT
DTSTART;TZID=UTC:20230822T190000
DTEND;TZID=UTC:20230822T203000
DTSTAMP:20260419T232712
CREATED:20230622T210023Z
LAST-MODIFIED:20230821T193216Z
UID:4904-1692730800-1692736200@westplains.gov
SUMMARY:Comedian Jessi Campbell
DESCRIPTION:Jessi Campbell is a high energy\, likable comedian that brings her relatable stories to the stage. She takes mundane events in her life and turns them into hilarious bits. Traditional stand-up comedy with no bells and whistles needed\, Jessi makes crowds laugh with one microphone and a spotlight. She was the Campus Activities Magazine Female Performer of the Year and has performed at over 1\,000 colleges nationwide. She has performed all over the world and has two Dry Bar Comedy specials. \nhttps://www.ticketmaster.com/event/06005EEBF3514F81
URL:https://westplains.gov/event/comedian-jessi-campbell/
LOCATION:Civic Center
CATEGORIES:Civic Center
END:VEVENT
BEGIN:VEVENT
DTSTART;TZID=UTC:20230812T150000
DTEND;TZID=UTC:20230812T160000
DTSTAMP:20260419T232712
CREATED:20230622T205256Z
LAST-MODIFIED:20230622T205321Z
UID:4902-1691852400-1691856000@westplains.gov
SUMMARY:MSU-WP Volleyball Alumni Game
DESCRIPTION:Located in the Arena
URL:https://westplains.gov/event/msu-wp-volleyball-alumni-game/
LOCATION:Civic Center
CATEGORIES:Civic Center
END:VEVENT
BEGIN:VEVENT
DTSTART;TZID=UTC:20230803T080000
DTEND;TZID=UTC:20230803T210000
DTSTAMP:20260419T232712
CREATED:20230617T021956Z
LAST-MODIFIED:20230622T205341Z
UID:4874-1691049600-1691096400@westplains.gov
SUMMARY:West Plains Civic Center Board Meeting
DESCRIPTION:Located in the Magnolia Room. Meeting will begin promptly at 8:15 am. Community is welcome to attend.
URL:https://westplains.gov/event/west-plains-civic-center-board-meeting/
LOCATION:Civic Center
CATEGORIES:Civic Center
END:VEVENT
BEGIN:VEVENT
DTSTART;TZID=UTC:20230730T100000
DTEND;TZID=UTC:20230730T150000
DTSTAMP:20260419T232712
CREATED:20230617T021824Z
LAST-MODIFIED:20230617T024150Z
UID:4872-1690711200-1690729200@westplains.gov
SUMMARY:TLR Gun & Knife Show
DESCRIPTION:Located in Civic Center Arena and Exhibit Hall. Admission fee at door.
URL:https://westplains.gov/event/tlr-gun-knife-show-2/
LOCATION:Civic Center
CATEGORIES:Civic Center
END:VEVENT
BEGIN:VEVENT
DTSTART;TZID=UTC:20230729T090000
DTEND;TZID=UTC:20230729T170000
DTSTAMP:20260419T232712
CREATED:20230617T021654Z
LAST-MODIFIED:20230617T024138Z
UID:4870-1690621200-1690650000@westplains.gov
SUMMARY:TLR Gun & Knife Show
DESCRIPTION:Located in the Civic Center Arena and Exhibit Hall. Admission fee at door.
URL:https://westplains.gov/event/tlr-gun-knife-show/
LOCATION:Civic Center
CATEGORIES:Civic Center
END:VEVENT
BEGIN:VEVENT
DTSTART;VALUE=DATE:20230704
DTEND;VALUE=DATE:20230705
DTSTAMP:20260419T232712
CREATED:20230617T021431Z
LAST-MODIFIED:20230617T024029Z
UID:4868-1688428800-1688515199@westplains.gov
SUMMARY:Building Closed
DESCRIPTION:Building closed in observation of Independence Day.
URL:https://westplains.gov/event/building-closed/
LOCATION:Civic Center
CATEGORIES:Civic Center
END:VEVENT
BEGIN:VEVENT
DTSTART;TZID=UTC:20230622T120000
DTEND;TZID=UTC:20230622T130000
DTSTAMP:20260419T232712
CREATED:20230622T205033Z
LAST-MODIFIED:20230622T205033Z
UID:4900-1687435200-1687438800@westplains.gov
SUMMARY:West Plains Chamber of Commerce Meeting
DESCRIPTION:Located in the Magnolia room.
URL:https://westplains.gov/event/west-plains-chamber-of-commerce-meeting/
LOCATION:Civic Center
CATEGORIES:Civic Center
END:VEVENT
BEGIN:VEVENT
DTSTART;TZID=UTC:20230519T080000
DTEND;TZID=UTC:20230623T170000
DTSTAMP:20260419T232712
CREATED:20230519T192856Z
LAST-MODIFIED:20230519T192856Z
UID:4578-1684483200-1687539600@westplains.gov
SUMMARY:Pickleball League Registration
DESCRIPTION:Are you a fan of Pickleball but haven’t found a league to play in? We have exciting news for you! Our Parks department is starting an 18+ Pickleball League on Friday nights starting July 14 through August 25. Pickleball is a fun and easy-to-learn sport for all ages\, and we can’t wait to introduce it to the community. \n  \nTo register\, please come into the Parks Office to get your registration form and waiver. We are thrilled to bring this new sport to our community and hope you’ll join in on the fun. Spread the word to your friends and family and let’s make this a great season! \nRegistration is going on now until June 23rd!
URL:https://westplains.gov/event/pickleball-league-registration/
CATEGORIES:Parks and Rec
END:VEVENT
BEGIN:VEVENT
DTSTART;TZID=UTC:20230415T180000
DTEND;TZID=UTC:20230415T200000
DTSTAMP:20260419T232712
CREATED:20230314T233313Z
LAST-MODIFIED:20230314T233313Z
UID:3535-1681581600-1681588800@westplains.gov
SUMMARY:18th Annual Christos House Chocolate Festival: Chocolate After Dark
DESCRIPTION:Join us April 15th at the West Plains Civic Center for our 18th Annual Chocolate Festival presented by McDonald’s.\nCatering will be provided by Ruby Tuesdays and many chocolate delights will be available from local chocolate artisans.\nLive music will be preformed by the Renee Woods “After Hours” Band. A live and silent auction will also be held.\nWages Brewing Company will host a cash bar at the event.\nTickets are $75 person with tables of up to eight people available for $600.\nTickets can be purchased at the Christos House office at 125 Jefferson Ave or call 417-256-3408 for more information.\n\nFor more information\nhttps://www.facebook.com/events/671020634979422
URL:https://westplains.gov/event/18th-annual-christos-house-chocolate-festival-chocolate-after-dark/
LOCATION:Civic Center
CATEGORIES:Civic Center
END:VEVENT
BEGIN:VEVENT
DTSTART;TZID=UTC:20230415T090000
DTEND;TZID=UTC:20230415T170000
DTSTAMP:20260419T232712
CREATED:20230314T233031Z
LAST-MODIFIED:20230314T233031Z
UID:3533-1681549200-1681578000@westplains.gov
SUMMARY:South Central MO Model Horse Show
DESCRIPTION:located in the Magnolia Room
URL:https://westplains.gov/event/south-central-mo-model-horse-show/
LOCATION:Civic Center
CATEGORIES:Civic Center
END:VEVENT
BEGIN:VEVENT
DTSTART;TZID=UTC:20230413T190000
DTEND;TZID=UTC:20230415T210000
DTSTAMP:20260419T232712
CREATED:20230314T234441Z
LAST-MODIFIED:20230314T234441Z
UID:3537-1681412400-1681592400@westplains.gov
SUMMARY:Children's Ballet of the Ozarks Presents; Hello Dolly the Musical
DESCRIPTION:Children’s Ballet of the Ozarks presents Hello Dolly!!!\nApril 13th & 14th at 7:00pm\n\nApril 15th at 3:00pm & 7:00pm\n\nWest Plains Civic Center\n110 Saint Louis St\, West Plains\, MO\n\nTickets: $10.00 in Advanced\, $12.00 at the door\nhttps://dancestudio-pro.com/tickets/cbo\n\nHELLO\, DOLLY! is presented by arrangement with Concord Theatricals on behalf of Tams-Witmark LLC. www.concordtheatricals.com
URL:https://westplains.gov/event/childrens-ballet-of-the-ozarks-presents-hello-dolly-the-musical/
LOCATION:Civic Center
CATEGORIES:Civic Center
END:VEVENT
BEGIN:VEVENT
DTSTART;TZID=UTC:20230413T170000
DTEND;TZID=UTC:20230413T190000
DTSTAMP:20260419T232712
CREATED:20230314T232542Z
LAST-MODIFIED:20230314T232542Z
UID:3530-1681405200-1681412400@westplains.gov
SUMMARY:T-Ball Sign-Ups
DESCRIPTION:Taking place in the West Lobby
URL:https://westplains.gov/event/t-ball-sign-ups-2/
LOCATION:Civic Center
CATEGORIES:Civic Center
END:VEVENT
BEGIN:VEVENT
DTSTART;TZID=UTC:20230413T120000
DTEND;TZID=UTC:20230414T160000
DTSTAMP:20260419T232712
CREATED:20230314T232103Z
LAST-MODIFIED:20230314T232103Z
UID:3523-1681387200-1681488000@westplains.gov
SUMMARY:West Plains R-7 Pre-School Screening
DESCRIPTION:Times: April 13\, 2023 12pm-4pm \nApril 14. 2023 8am-4pm \n  \nFor more information \nhttps://www.zizzers.org/site/default.aspx?PageType=3&DomainID=4&ModuleInstanceID=4801&ViewID=6446EE88-D30C-497E-9316-3F8874B3E108&RenderLoc=0&FlexDataID=11779&PageID=1
URL:https://westplains.gov/event/west-plains-r-7-pre-school-screening/
LOCATION:Civic Center
CATEGORIES:Civic Center
END:VEVENT
BEGIN:VEVENT
DTSTART;TZID=UTC:20230412T080000
DTEND;TZID=UTC:20230413T120000
DTSTAMP:20260419T232712
CREATED:20230314T231831Z
LAST-MODIFIED:20230314T231831Z
UID:3518-1681286400-1681387200@westplains.gov
SUMMARY:West Plains R-7 Kindergarten Screening
DESCRIPTION:Times: April 12\, 2023 from 8am-4pm \nApril 13\, 2023 from 8am-12pm \nTaking place in the Dogwood Rooms.  Enter the buuilding through the East Entrance for the quickest route to the Dogwood rooms. \n  \nFor more information \nhttps://www.zizzers.org/site/default.aspx?PageType=3&DomainID=4&ModuleInstanceID=4801&ViewID=6446EE88-D30C-497E-9316-3F8874B3E108&RenderLoc=0&FlexDataID=11779&PageID=1
URL:https://westplains.gov/event/west-plains-r-7-kindergarten-screening/
LOCATION:Civic Center
CATEGORIES:Civic Center
END:VEVENT
BEGIN:VEVENT
DTSTART;TZID=UTC:20230411T170000
DTEND;TZID=UTC:20230411T190000
DTSTAMP:20260419T232712
CREATED:20230314T232445Z
LAST-MODIFIED:20230314T232445Z
UID:3528-1681232400-1681239600@westplains.gov
SUMMARY:T-Ball Sign-Ups
DESCRIPTION:Taking place in the West Lobby.
URL:https://westplains.gov/event/t-ball-sign-ups/
LOCATION:Civic Center
CATEGORIES:Civic Center
END:VEVENT
BEGIN:VEVENT
DTSTART;TZID=UTC:20230409T100000
DTEND;TZID=UTC:20230409T170000
DTSTAMP:20260419T232712
CREATED:20230314T225708Z
LAST-MODIFIED:20230314T225708Z
UID:3507-1681034400-1681059600@westplains.gov
SUMMARY:First Baptist Church hosts Easter at the Center
DESCRIPTION:
URL:https://westplains.gov/event/first-baptist-church-hosts-easter-at-the-center/
LOCATION:Civic Center
CATEGORIES:Civic Center
END:VEVENT
BEGIN:VEVENT
DTSTART;TZID=UTC:20230406T120000
DTEND;TZID=UTC:20230406T130000
DTSTAMP:20260419T232712
CREATED:20230314T231012Z
LAST-MODIFIED:20230314T231012Z
UID:3516-1680782400-1680786000@westplains.gov
SUMMARY:West Plains Chamber of Commerce Luncheon
DESCRIPTION:Monthly Chamber luncheon\, located in the Magnolia Room. \n  \nRSVP requested at 417-256-4433 or by emailing info@wpchamber.com
URL:https://westplains.gov/event/west-plains-chamber-of-commerce-luncheon/
LOCATION:Civic Center
CATEGORIES:Civic Center
END:VEVENT
BEGIN:VEVENT
DTSTART;TZID=UTC:20230404T060000
DTEND;TZID=UTC:20230404T190000
DTSTAMP:20260419T232712
CREATED:20230314T230820Z
LAST-MODIFIED:20230314T230820Z
UID:3514-1680588000-1680634800@westplains.gov
SUMMARY:Howell County Election Polling Location
DESCRIPTION:Voting location will be in the Walnut Room on the 1st floor of the Civic Center.
URL:https://westplains.gov/event/howell-county-election-polling-location/
LOCATION:Civic Center
CATEGORIES:Civic Center
END:VEVENT
BEGIN:VEVENT
DTSTART;TZID=UTC:20230401T190000
DTEND;TZID=UTC:20230401T190000
DTSTAMP:20260419T232712
CREATED:20230314T194025Z
LAST-MODIFIED:20230314T223639Z
UID:3504-1680375600-1680375600@westplains.gov
SUMMARY:Bulls\, Broncs and Bands
DESCRIPTION:We are excited to announce that the Wayward Son Xtreme Bulls\, Broncs & Bands will be making its return to the West Plains Civic Center March 31st and April 1st. Professional Bull Riding\, Professional Bronc Riding and live music brought to you by “Renata The Band” out of Nashville\, TN. The top bull riders and bronc riders in the world will be going head-to-head with some of the rankest bulls and broncs professional rodeo has to offer! Tickets can be purchased at the box office night of show or by calling 417-256-8087 or by following the link below. \nPurchase Tickets \nhttps://www.ticketmaster.com/west-plains…/venue/50524
URL:https://westplains.gov/event/3504/
LOCATION:Civic Center
CATEGORIES:Civic Center
END:VEVENT
BEGIN:VEVENT
DTSTART;TZID=UTC:20230331T190000
DTEND;TZID=UTC:20230331T190000
DTSTAMP:20260419T232712
CREATED:20230314T193913Z
LAST-MODIFIED:20230314T193913Z
UID:3502-1680289200-1680289200@westplains.gov
SUMMARY:Bulls\, Broncs and Bands
DESCRIPTION:We are excited to announce that the Wayward Son Xtreme Bulls\, Broncs & Bands will be making its return to the West Plains Civic Center March 31st and April 1st. Professional Bull Riding\, Professional Bronc Riding and live music brought to you by “Renata The Band” out of Nashville\, TN. The top bull riders and bronc riders in the world will be going head-to-head with some of the rankest bulls and broncs professional rodeo has to offer! Tickets can be purchased at the box office night of show or by calling 417-256-8087 or by following the link below. \n  \nPurchase Tickets \nhttps://www.ticketmaster.com/west-plains…/venue/50524
URL:https://westplains.gov/event/bulls-broncs-and-bands/
LOCATION:Civic Center
CATEGORIES:Civic Center
END:VEVENT
BEGIN:VEVENT
DTSTART;TZID=UTC:20230323T081500
DTEND;TZID=UTC:20230323T090000
DTSTAMP:20260419T232712
CREATED:20230314T230506Z
LAST-MODIFIED:20230314T230506Z
UID:3510-1679559300-1679562000@westplains.gov
SUMMARY:Civic Center Board Meeting
DESCRIPTION:Magnolia Room
URL:https://westplains.gov/event/civic-center-board-meeting/
LOCATION:Civic Center
CATEGORIES:Civic Center
END:VEVENT
BEGIN:VEVENT
DTSTART;TZID=UTC:20230320T080000
DTEND;TZID=UTC:20230429T170000
DTSTAMP:20260419T232712
CREATED:20230314T230709Z
LAST-MODIFIED:20230314T230709Z
UID:3512-1679299200-1682787600@westplains.gov
SUMMARY:Art Around Town Exhibit
DESCRIPTION:Located on the second floor of the Civic Center on the Mezzanine.  Please come view student artwork ffrom area schools.
URL:https://westplains.gov/event/art-around-town-exhibit/
LOCATION:Civic Center
CATEGORIES:Civic Center
END:VEVENT
BEGIN:VEVENT
DTSTART;TZID=UTC:20230318T173000
DTEND;TZID=UTC:20230318T173000
DTSTAMP:20260419T232712
CREATED:20230314T192930Z
LAST-MODIFIED:20230314T192930Z
UID:3500-1679160600-1679160600@westplains.gov
SUMMARY:Cystic Fibrosis Benefit Concert featuring Eddy Montgomery
DESCRIPTION:Advanced ticket prices are $30 for adult tickets and $5 for children tickets. \n  \nCall the Box Office at 417-256-8087 to order your tickets.
URL:https://westplains.gov/event/cystic-fibrosis-benefit-concert-featuring-eddy-montgomery/
LOCATION:Civic Center
CATEGORIES:Civic Center
END:VEVENT
END:VCALENDAR