BEGIN:VCALENDAR
VERSION:2.0
PRODID:-//City of West Plains - ECPv6.14.2//NONSGML v1.0//EN
CALSCALE:GREGORIAN
METHOD:PUBLISH
X-WR-CALNAME:City of West Plains
X-ORIGINAL-URL:https://westplains.gov
X-WR-CALDESC:Events for City of West Plains
REFRESH-INTERVAL;VALUE=DURATION:PT1H
X-Robots-Tag:noindex
X-PUBLISHED-TTL:PT1H
BEGIN:VTIMEZONE
TZID:America/New_York
BEGIN:DAYLIGHT
TZOFFSETFROM:-0500
TZOFFSETTO:-0400
TZNAME:EDT
DTSTART:20240310T070000
END:DAYLIGHT
BEGIN:STANDARD
TZOFFSETFROM:-0400
TZOFFSETTO:-0500
TZNAME:EST
DTSTART:20241103T060000
END:STANDARD
END:VTIMEZONE
BEGIN:VEVENT
DTSTART;TZID=America/New_York:20240322T193000
DTEND;TZID=America/New_York:20240322T193000
DTSTAMP:20260419T221823
CREATED:20240111T211047Z
LAST-MODIFIED:20240111T211047Z
UID:7662-1711135800-1711135800@westplains.gov
SUMMARY:Bull Riders of America X-treme Tour
DESCRIPTION:Located in Arena
URL:https://westplains.gov/event/bull-riders-of-america-x-treme-tour/
LOCATION:Civic Center
CATEGORIES:Civic Center
END:VEVENT
BEGIN:VEVENT
DTSTART;TZID=America/New_York:20240322T100000
DTEND;TZID=America/New_York:20240322T100000
DTSTAMP:20260419T221823
CREATED:20240111T210852Z
LAST-MODIFIED:20240111T210852Z
UID:7657-1711101600-1711101600@westplains.gov
SUMMARY:World Championship Miniature Bull Riding
DESCRIPTION:Located in Arena
URL:https://westplains.gov/event/world-championship-miniature-bull-riding/
LOCATION:Civic Center
CATEGORIES:Civic Center
END:VEVENT
BEGIN:VEVENT
DTSTART;TZID=America/New_York:20240320T170000
DTEND;TZID=America/New_York:20240320T180000
DTSTAMP:20260419T221823
CREATED:20240315T183818Z
LAST-MODIFIED:20240315T183818Z
UID:8708-1710954000-1710957600@westplains.gov
SUMMARY:Google Calendar 101
DESCRIPTION:Are you ready to streamline your schedule and boost your productivity? Join us for a Google Calendar 101 class at the West Plains Public Library on March 20th from 5:00 PM to 6:00 PM!\n\n\nIn this class\, Dianna Locke will teach you everything you need to know to master Google Calendar like a pro. Whether you’re new to digital calendars or looking to enhance your skills\, this session is perfect for beginners and seasoned users alike.\n\n\n\n\n“This project is supported by the Institute of Museum and Library Services under the provisions of the Library Services and Technology Act as administered by the Missouri State Library\, a division of the Office of the Secretary of State” Institute of Museum and Library Services
URL:https://westplains.gov/event/google-calendar-101/
LOCATION:West Plains Public Library\, 750 W Broadway St West Plains\, MO 65775\, West Plains\, MO\, 65775\, United States
CATEGORIES:Library
ATTACH;FMTTYPE=image/png:https://westplains.gov/wp-content/uploads/2024/03/GC-March-20-RV-768-x-432-px-1.png
END:VEVENT
BEGIN:VEVENT
DTSTART;VALUE=DATE:20240318
DTEND;VALUE=DATE:20240328
DTSTAMP:20260419T221823
CREATED:20240111T210659Z
LAST-MODIFIED:20240111T210659Z
UID:7655-1710720000-1711583999@westplains.gov
SUMMARY:WPCA "Art Around Town"
DESCRIPTION:Located upstairs in Mezzanine
URL:https://westplains.gov/event/wpca-art-around-town/
LOCATION:Civic Center
CATEGORIES:Civic Center
END:VEVENT
BEGIN:VEVENT
DTSTART;TZID=America/New_York:20240316T053000
DTEND;TZID=America/New_York:20240316T173000
DTSTAMP:20260419T221823
CREATED:20240111T210604Z
LAST-MODIFIED:20240111T210604Z
UID:7653-1710567000-1710610200@westplains.gov
SUMMARY:Cystic Fibrosis Benefit Show
DESCRIPTION:Located in Arena
URL:https://westplains.gov/event/cystic-fibrosis-benefit-show/
LOCATION:Civic Center
CATEGORIES:Civic Center
END:VEVENT
BEGIN:VEVENT
DTSTART;TZID=America/New_York:20240308T190000
DTEND;TZID=America/New_York:20240308T190000
DTSTAMP:20260419T221823
CREATED:20240111T210421Z
LAST-MODIFIED:20240111T210421Z
UID:7649-1709924400-1709924400@westplains.gov
SUMMARY:Stars Foundation Irish Dance
DESCRIPTION:Located in Theater
URL:https://westplains.gov/event/stars-foundation-irish-dance/
LOCATION:Civic Center
CATEGORIES:Civic Center
END:VEVENT
BEGIN:VEVENT
DTSTART;TZID=America/New_York:20240307T120000
DTEND;TZID=America/New_York:20240307T120000
DTSTAMP:20260419T221823
CREATED:20240111T210332Z
LAST-MODIFIED:20240111T210332Z
UID:7647-1709812800-1709812800@westplains.gov
SUMMARY:West Plains Chamber of Commerce Meeting
DESCRIPTION:Located in Magnolia Room
URL:https://westplains.gov/event/west-plains-chamber-of-commerce-meeting-7/
LOCATION:Civic Center
CATEGORIES:Civic Center
END:VEVENT
BEGIN:VEVENT
DTSTART;TZID=America/New_York:20240307T080000
DTEND;TZID=America/New_York:20240307T160000
DTSTAMP:20260419T221823
CREATED:20240111T210246Z
LAST-MODIFIED:20240111T210246Z
UID:7645-1709798400-1709827200@westplains.gov
SUMMARY:MSHSAA District Music Contest
DESCRIPTION:
URL:https://westplains.gov/event/mshsaa-district-music-contest/
LOCATION:Civic Center
CATEGORIES:Civic Center
END:VEVENT
BEGIN:VEVENT
DTSTART;TZID=America/New_York:20240302T190000
DTEND;TZID=America/New_York:20240302T190000
DTSTAMP:20260419T221823
CREATED:20240111T210159Z
LAST-MODIFIED:20240111T210159Z
UID:7643-1709406000-1709406000@westplains.gov
SUMMARY:Missouri Contemporary Ballet Co. Workshop and Performance
DESCRIPTION:Located  in Theater
URL:https://westplains.gov/event/missouri-contemporary-ballet-co-workshop-and-performance/
LOCATION:Civic Center
CATEGORIES:Civic Center
END:VEVENT
BEGIN:VEVENT
DTSTART;TZID=America/New_York:20240302T090000
DTEND;TZID=America/New_York:20240302T170000
DTSTAMP:20260419T221823
CREATED:20240102T224016Z
LAST-MODIFIED:20240102T224016Z
UID:7551-1709370000-1709398800@westplains.gov
SUMMARY:Southern Missouri Homebuilders Association Home and Garden Show
DESCRIPTION:Located in Arena and Exhibit Hall
URL:https://westplains.gov/event/southern-missouri-homebuilders-association-home-and-garden-show-2/
LOCATION:Civic Center
CATEGORIES:Civic Center
END:VEVENT
BEGIN:VEVENT
DTSTART;TZID=America/New_York:20240301T150000
DTEND;TZID=America/New_York:20240301T170000
DTSTAMP:20260419T221823
CREATED:20240102T223951Z
LAST-MODIFIED:20240102T223951Z
UID:7549-1709305200-1709312400@westplains.gov
SUMMARY:Southern Missouri Homebuilders Association Home and Garden Show
DESCRIPTION:Located in Arena and Exhibit Hall
URL:https://westplains.gov/event/southern-missouri-homebuilders-association-home-and-garden-show/
LOCATION:Civic Center
CATEGORIES:Civic Center
END:VEVENT
BEGIN:VEVENT
DTSTART;TZID=America/New_York:20240225T150000
DTEND;TZID=America/New_York:20240225T150000
DTSTAMP:20260419T221823
CREATED:20240102T223323Z
LAST-MODIFIED:20240102T223323Z
UID:7543-1708873200-1708873200@westplains.gov
SUMMARY:West Plains Playhouse Presents Alice in Wonderland
DESCRIPTION:Located in Theater
URL:https://westplains.gov/event/west-plains-playhouse-presents-alice-in-wonderland-10/
LOCATION:Civic Center
CATEGORIES:Civic Center
END:VEVENT
BEGIN:VEVENT
DTSTART;TZID=America/New_York:20240224T190000
DTEND;TZID=America/New_York:20240224T190000
DTSTAMP:20260419T221823
CREATED:20240102T223259Z
LAST-MODIFIED:20240102T223259Z
UID:7541-1708801200-1708801200@westplains.gov
SUMMARY:West Plains Playhouse Presents Alice in Wonderland
DESCRIPTION:Located in Theater
URL:https://westplains.gov/event/west-plains-playhouse-presents-alice-in-wonderland-9/
LOCATION:Civic Center
CATEGORIES:Civic Center
END:VEVENT
BEGIN:VEVENT
DTSTART;TZID=America/New_York:20240224T173000
DTEND;TZID=America/New_York:20240224T173000
DTSTAMP:20260419T221823
CREATED:20240111T210514Z
LAST-MODIFIED:20240111T210514Z
UID:7651-1708795800-1708795800@westplains.gov
SUMMARY:West Plains Council on the Arts Hosts Brewfest 2024
DESCRIPTION:Located in Exhibit Hall
URL:https://westplains.gov/event/west-plains-council-on-the-arts-hosts-brewfest-2024/
LOCATION:Civic Center
CATEGORIES:Civic Center
END:VEVENT
BEGIN:VEVENT
DTSTART;TZID=America/New_York:20240224T150000
DTEND;TZID=America/New_York:20240224T150000
DTSTAMP:20260419T221823
CREATED:20240102T223236Z
LAST-MODIFIED:20240102T223236Z
UID:7539-1708786800-1708786800@westplains.gov
SUMMARY:West Plains Playhouse Presents Alice in Wonderland
DESCRIPTION:Located in Theater
URL:https://westplains.gov/event/west-plains-playhouse-presents-alice-in-wonderland-8/
LOCATION:Civic Center
CATEGORIES:Civic Center
END:VEVENT
BEGIN:VEVENT
DTSTART;TZID=America/New_York:20240223T190000
DTEND;TZID=America/New_York:20240223T190000
DTSTAMP:20260419T221823
CREATED:20240102T223205Z
LAST-MODIFIED:20240102T223205Z
UID:7537-1708714800-1708714800@westplains.gov
SUMMARY:West Plains Playhouse Presents Alice in Wonderland
DESCRIPTION:Located in Theater
URL:https://westplains.gov/event/west-plains-playhouse-presents-alice-in-wonderland-7/
LOCATION:Civic Center
CATEGORIES:Civic Center
END:VEVENT
BEGIN:VEVENT
DTSTART;TZID=America/New_York:20240222T190000
DTEND;TZID=America/New_York:20240222T190000
DTSTAMP:20260419T221823
CREATED:20240102T223141Z
LAST-MODIFIED:20240102T223141Z
UID:7535-1708628400-1708628400@westplains.gov
SUMMARY:West Plains Playhouse Presents Alice in Wonderland
DESCRIPTION:Located in Theater
URL:https://westplains.gov/event/west-plains-playhouse-presents-alice-in-wonderland-6/
LOCATION:Civic Center
CATEGORIES:Civic Center
END:VEVENT
BEGIN:VEVENT
DTSTART;TZID=America/New_York:20240221T190000
DTEND;TZID=America/New_York:20240221T190000
DTSTAMP:20260419T221823
CREATED:20240102T223616Z
LAST-MODIFIED:20240102T223616Z
UID:7547-1708542000-1708542000@westplains.gov
SUMMARY:MSU-WP Grizzly Basketball VS Three Rivers Community College
DESCRIPTION:Located in Arena
URL:https://westplains.gov/event/msu-wp-grizzly-basketball-vs-three-rivers-community-college-2/
LOCATION:Civic Center
CATEGORIES:Civic Center
END:VEVENT
BEGIN:VEVENT
DTSTART;VALUE=DATE:20240219
DTEND;VALUE=DATE:20240220
DTSTAMP:20260419T221823
CREATED:20240102T223510Z
LAST-MODIFIED:20240102T223510Z
UID:7545-1708300800-1708387199@westplains.gov
SUMMARY:Box Office Closed in Observation of President's Day
DESCRIPTION:
URL:https://westplains.gov/event/box-office-closed-in-observation-of-presidents-day/
LOCATION:Civic Center
CATEGORIES:Civic Center
END:VEVENT
BEGIN:VEVENT
DTSTART;TZID=America/New_York:20240218T150000
DTEND;TZID=America/New_York:20240218T150000
DTSTAMP:20260419T221823
CREATED:20240102T223113Z
LAST-MODIFIED:20240102T223113Z
UID:7533-1708268400-1708268400@westplains.gov
SUMMARY:West Plains Playhouse Presents Alice in Wonderland
DESCRIPTION:Located in Theater
URL:https://westplains.gov/event/west-plains-playhouse-presents-alice-in-wonderland-5/
LOCATION:Civic Center
CATEGORIES:Civic Center
END:VEVENT
BEGIN:VEVENT
DTSTART;TZID=America/New_York:20240217T190000
DTEND;TZID=America/New_York:20240217T190000
DTSTAMP:20260419T221823
CREATED:20240102T223048Z
LAST-MODIFIED:20240102T223048Z
UID:7531-1708196400-1708196400@westplains.gov
SUMMARY:West Plains Playhouse Presents Alice in Wonderland
DESCRIPTION:Located in Theater
URL:https://westplains.gov/event/west-plains-playhouse-presents-alice-in-wonderland-4/
LOCATION:Civic Center
CATEGORIES:Civic Center
END:VEVENT
BEGIN:VEVENT
DTSTART;TZID=America/New_York:20240217T150000
DTEND;TZID=America/New_York:20240217T150000
DTSTAMP:20260419T221823
CREATED:20240102T223024Z
LAST-MODIFIED:20240102T223024Z
UID:7529-1708182000-1708182000@westplains.gov
SUMMARY:West Plains Playhouse Presents Alice in Wonderland
DESCRIPTION:Located in Theater
URL:https://westplains.gov/event/west-plains-playhouse-presents-alice-in-wonderland-3/
LOCATION:Civic Center
CATEGORIES:Civic Center
END:VEVENT
BEGIN:VEVENT
DTSTART;TZID=America/New_York:20240216T190000
DTEND;TZID=America/New_York:20240216T190000
DTSTAMP:20260419T221823
CREATED:20240102T222949Z
LAST-MODIFIED:20240102T222949Z
UID:7527-1708110000-1708110000@westplains.gov
SUMMARY:West Plains Playhouse Presents Alice in Wonderland
DESCRIPTION:Located in Theater
URL:https://westplains.gov/event/west-plains-playhouse-presents-alice-in-wonderland-2/
LOCATION:Civic Center
CATEGORIES:Civic Center
END:VEVENT
BEGIN:VEVENT
DTSTART;TZID=America/New_York:20240215T190000
DTEND;TZID=America/New_York:20240215T190000
DTSTAMP:20260419T221823
CREATED:20240102T222922Z
LAST-MODIFIED:20240102T222922Z
UID:7525-1708023600-1708023600@westplains.gov
SUMMARY:West Plains Playhouse Presents Alice in Wonderland
DESCRIPTION:Located in Theater
URL:https://westplains.gov/event/west-plains-playhouse-presents-alice-in-wonderland/
LOCATION:Civic Center
CATEGORIES:Civic Center
END:VEVENT
BEGIN:VEVENT
DTSTART;TZID=America/New_York:20240214T190000
DTEND;TZID=America/New_York:20240214T190000
DTSTAMP:20260419T221823
CREATED:20240102T222247Z
LAST-MODIFIED:20240102T222247Z
UID:7523-1707937200-1707937200@westplains.gov
SUMMARY:MSU-WP Grizzly Basketball VS State Fair
DESCRIPTION:Located in Arena
URL:https://westplains.gov/event/msu-wp-grizzly-basketball-vs-state-fair/
LOCATION:Civic Center
CATEGORIES:Civic Center
END:VEVENT
BEGIN:VEVENT
DTSTART;TZID=America/New_York:20240211T090000
DTEND;TZID=America/New_York:20240211T150000
DTSTAMP:20260419T221823
CREATED:20240102T222124Z
LAST-MODIFIED:20240102T222124Z
UID:7519-1707642000-1707663600@westplains.gov
SUMMARY:TLR Gun and Knife Show
DESCRIPTION:Located in Arena and Exhibit Hall
URL:https://westplains.gov/event/tlr-gun-and-knife-show-2/
LOCATION:Civic Center
CATEGORIES:Civic Center
END:VEVENT
BEGIN:VEVENT
DTSTART;TZID=America/New_York:20240210T090000
DTEND;TZID=America/New_York:20240210T170000
DTSTAMP:20260419T221823
CREATED:20240102T222033Z
LAST-MODIFIED:20240102T222033Z
UID:7517-1707555600-1707584400@westplains.gov
SUMMARY:TLR Gun and Knife Show
DESCRIPTION:Located in Arena and Exhibit Hall
URL:https://westplains.gov/event/tlr-gun-and-knife-show/
LOCATION:Civic Center
CATEGORIES:Civic Center
END:VEVENT
BEGIN:VEVENT
DTSTART;TZID=America/New_York:20240206T190000
DTEND;TZID=America/New_York:20240206T190000
DTSTAMP:20260419T221823
CREATED:20240102T221938Z
LAST-MODIFIED:20240102T221938Z
UID:7515-1707246000-1707246000@westplains.gov
SUMMARY:MSU-WP Grizzly Basketball VS Indian Hills
DESCRIPTION:Located in Arena
URL:https://westplains.gov/event/msu-wp-grizzly-basketball-vs-indian-hills/
LOCATION:Civic Center
CATEGORIES:Civic Center
END:VEVENT
BEGIN:VEVENT
DTSTART;TZID=America/New_York:20240201T120000
DTEND;TZID=America/New_York:20240201T120000
DTSTAMP:20260419T221823
CREATED:20240102T221851Z
LAST-MODIFIED:20240102T221851Z
UID:7513-1706788800-1706788800@westplains.gov
SUMMARY:West Plains Chamber of Commerce Meeting
DESCRIPTION:Located in Magnolia Room
URL:https://westplains.gov/event/west-plains-chamber-of-commerce-meeting-6/
LOCATION:Civic Center
CATEGORIES:Civic Center
END:VEVENT
BEGIN:VEVENT
DTSTART;TZID=America/New_York:20240130T090000
DTEND;TZID=America/New_York:20240130T180000
DTSTAMP:20260419T221823
CREATED:20240102T221808Z
LAST-MODIFIED:20240102T221808Z
UID:7510-1706605200-1706637600@westplains.gov
SUMMARY:West Plains Council on the Arts Volunteer Fair
DESCRIPTION:Located in Exhibit Hall
URL:https://westplains.gov/event/west-plains-council-on-the-arts-volunteer-fair/
LOCATION:Civic Center
CATEGORIES:Civic Center
END:VEVENT
END:VCALENDAR