BEGIN:VCALENDAR
VERSION:2.0
PRODID:-//City of West Plains - ECPv6.14.2//NONSGML v1.0//EN
CALSCALE:GREGORIAN
METHOD:PUBLISH
X-WR-CALNAME:City of West Plains
X-ORIGINAL-URL:https://westplains.gov
X-WR-CALDESC:Events for City of West Plains
REFRESH-INTERVAL;VALUE=DURATION:PT1H
X-Robots-Tag:noindex
X-PUBLISHED-TTL:PT1H
BEGIN:VTIMEZONE
TZID:UTC
BEGIN:STANDARD
TZOFFSETFROM:+0000
TZOFFSETTO:+0000
TZNAME:UTC
DTSTART:20230101T000000
END:STANDARD
END:VTIMEZONE
BEGIN:VTIMEZONE
TZID:America/New_York
BEGIN:DAYLIGHT
TZOFFSETFROM:-0500
TZOFFSETTO:-0400
TZNAME:EDT
DTSTART:20230312T070000
END:DAYLIGHT
BEGIN:STANDARD
TZOFFSETFROM:-0400
TZOFFSETTO:-0500
TZNAME:EST
DTSTART:20231105T060000
END:STANDARD
END:VTIMEZONE
BEGIN:VEVENT
DTSTART;TZID=UTC:20231125T170000
DTEND;TZID=UTC:20231125T170000
DTSTAMP:20260419T225411
CREATED:20230803T224754Z
LAST-MODIFIED:20230803T224754Z
UID:5437-1700931600-1700931600@westplains.gov
SUMMARY:MSU-WP Grizzly Basketball Tournament
DESCRIPTION:https://www.ticketmaster.com/event/06005EE6E4BD5F37
URL:https://westplains.gov/event/msu-wp-grizzly-basketball-tournament-4/
LOCATION:Civic Center
CATEGORIES:Civic Center
END:VEVENT
BEGIN:VEVENT
DTSTART;TZID=UTC:20231124T170000
DTEND;TZID=UTC:20231124T170000
DTSTAMP:20260419T225411
CREATED:20230803T224644Z
LAST-MODIFIED:20230803T224644Z
UID:5435-1700845200-1700845200@westplains.gov
SUMMARY:MSU-WP Grizzly Basketball Tournament
DESCRIPTION:https://www.ticketmaster.com/event/06005EE6E4BA5F2E
URL:https://westplains.gov/event/msu-wp-grizzly-basketball-tournament-3/
LOCATION:Civic Center
CATEGORIES:Civic Center
END:VEVENT
BEGIN:VEVENT
DTSTART;VALUE=DATE:20231123
DTEND;VALUE=DATE:20231124
DTSTAMP:20260419T225411
CREATED:20230803T224538Z
LAST-MODIFIED:20230803T224538Z
UID:5433-1700697600-1700783999@westplains.gov
SUMMARY:Closed For Thanksgiving Holiday
DESCRIPTION:Entire building closed for Thanksgiving.
URL:https://westplains.gov/event/closed-for-thanksgiving-holiday/
LOCATION:Civic Center
CATEGORIES:Civic Center
END:VEVENT
BEGIN:VEVENT
DTSTART;TZID=UTC:20231121T190000
DTEND;TZID=UTC:20231121T190000
DTSTAMP:20260419T225411
CREATED:20230803T224448Z
LAST-MODIFIED:20230803T224448Z
UID:5431-1700593200-1700593200@westplains.gov
SUMMARY:MSU-WP Grizzly Basketball VS National Park
DESCRIPTION:https://www.ticketmaster.com/event/06005EE6E4B75F21
URL:https://westplains.gov/event/msu-wp-grizzly-basketball-vs-national-park/
LOCATION:Civic Center
CATEGORIES:Civic Center
END:VEVENT
BEGIN:VEVENT
DTSTART;TZID=UTC:20231118T170000
DTEND;TZID=UTC:20231118T170000
DTSTAMP:20260419T225411
CREATED:20230803T224344Z
LAST-MODIFIED:20230803T224344Z
UID:5429-1700326800-1700326800@westplains.gov
SUMMARY:MSU-WP Grizzly Basketball Tournament
DESCRIPTION:https://www.ticketmaster.com/event/06005EE6E4B25F15
URL:https://westplains.gov/event/msu-wp-grizzly-basketball-tournament-2/
LOCATION:Civic Center
CATEGORIES:Civic Center
END:VEVENT
BEGIN:VEVENT
DTSTART;TZID=UTC:20231117T170000
DTEND;TZID=UTC:20231117T170000
DTSTAMP:20260419T225411
CREATED:20230803T224301Z
LAST-MODIFIED:20230803T224301Z
UID:5427-1700240400-1700240400@westplains.gov
SUMMARY:MSU-WP Grizzly Basketball Tournament
DESCRIPTION:https://www.ticketmaster.com/event/06005EE6E4B25F15
URL:https://westplains.gov/event/msu-wp-grizzly-basketball-tournament/
LOCATION:Civic Center
CATEGORIES:Civic Center
END:VEVENT
BEGIN:VEVENT
DTSTART;TZID=UTC:20231110T120000
DTEND;TZID=UTC:20231110T130000
DTSTAMP:20260419T225411
CREATED:20230803T212027Z
LAST-MODIFIED:20230803T212027Z
UID:5412-1699617600-1699621200@westplains.gov
SUMMARY:Veteran's Luncheon
DESCRIPTION:At noon or immediately following the Veteran’s Day Parade in Exhibit Hall.
URL:https://westplains.gov/event/veterans-luncheon/
LOCATION:Civic Center
CATEGORIES:Civic Center
END:VEVENT
BEGIN:VEVENT
DTSTART;TZID=UTC:20231110T100000
DTEND;TZID=UTC:20231110T150000
DTSTAMP:20260419T225411
CREATED:20230803T212417Z
LAST-MODIFIED:20230803T212504Z
UID:5420-1699610400-1699628400@westplains.gov
SUMMARY:Veteran's Day Concert
DESCRIPTION:Located in Arena.
URL:https://westplains.gov/event/veterans-day-concert/
LOCATION:Civic Center
CATEGORIES:Civic Center
END:VEVENT
BEGIN:VEVENT
DTSTART;VALUE=DATE:20231110
DTEND;VALUE=DATE:20231111
DTSTAMP:20260419T225411
CREATED:20230803T212216Z
LAST-MODIFIED:20230803T212216Z
UID:5416-1699574400-1699660799@westplains.gov
SUMMARY:Box Office Closed in Observance of Veteran's Day
DESCRIPTION:Box Office Closed All Day.
URL:https://westplains.gov/event/box-office-closed-in-observance-of-veterans-day/
LOCATION:Civic Center
CATEGORIES:Civic Center
END:VEVENT
BEGIN:VEVENT
DTSTART;TZID=UTC:20231109T170000
DTEND;TZID=UTC:20231109T170000
DTSTAMP:20260419T225411
CREATED:20230803T211828Z
LAST-MODIFIED:20230803T211828Z
UID:5410-1699549200-1699549200@westplains.gov
SUMMARY:West Plains High School Fall Theater Performance
DESCRIPTION:Located in Theater.
URL:https://westplains.gov/event/west-plains-high-school-fall-theater-performance/
LOCATION:Civic Center
CATEGORIES:Civic Center
END:VEVENT
BEGIN:VEVENT
DTSTART;TZID=UTC:20231107T080000
DTEND;TZID=UTC:20231107T200000
DTSTAMP:20260419T225411
CREATED:20230803T211601Z
LAST-MODIFIED:20230803T211601Z
UID:5408-1699344000-1699387200@westplains.gov
SUMMARY:Howell 4 - Polling Location- Election Day
DESCRIPTION:Located in Walnut Room.
URL:https://westplains.gov/event/howell-4-polling-location-election-day/
LOCATION:Civic Center
CATEGORIES:Civic Center
END:VEVENT
BEGIN:VEVENT
DTSTART;TZID=UTC:20231102T190000
DTEND;TZID=UTC:20231102T190000
DTSTAMP:20260419T225411
CREATED:20230803T211115Z
LAST-MODIFIED:20230921T150702Z
UID:5406-1698951600-1698951600@westplains.gov
SUMMARY:MSU-WP Grizzly Basketball VS Link Year
DESCRIPTION:Located in Arena. \nhttps://www.ticketmaster.com/event/06005EE6E4AF5F0D
URL:https://westplains.gov/event/msu-wp-grizzly-basketball-vs-link-year/
LOCATION:Civic Center
CATEGORIES:Civic Center
END:VEVENT
BEGIN:VEVENT
DTSTART;TZID=UTC:20231102T120000
DTEND;TZID=UTC:20231102T133000
DTSTAMP:20260419T225411
CREATED:20230803T210838Z
LAST-MODIFIED:20230803T210838Z
UID:5404-1698926400-1698931800@westplains.gov
SUMMARY:West Plains Chamber of Commerce Meeting
DESCRIPTION:Located in the Magnolia Room.
URL:https://westplains.gov/event/west-plains-chamber-of-commerce-meeting-4/
LOCATION:Civic Center
CATEGORIES:Civic Center
END:VEVENT
BEGIN:VEVENT
DTSTART;TZID=America/New_York:20231031T170000
DTEND;TZID=America/New_York:20231031T200000
DTSTAMP:20260419T225411
CREATED:20231030T215441Z
LAST-MODIFIED:20231030T215546Z
UID:6549-1698771600-1698782400@westplains.gov
SUMMARY:Trick or Treat at the PD
DESCRIPTION:We will be handing out treats and maybe a few tricks 
URL:https://westplains.gov/event/trick-or-treat-at-the-pd/
LOCATION:West Plains Police Department\, 1912 Holiday Ln\, West Plains\, MO\, 65775\, United States
CATEGORIES:Police
ATTACH;FMTTYPE=image/jpeg:https://westplains.gov/wp-content/uploads/2023/10/Trick-or-Treat-by-TheLucky-scaled.jpg
END:VEVENT
BEGIN:VEVENT
DTSTART;TZID=UTC:20231026T190000
DTEND;TZID=UTC:20231026T190000
DTSTAMP:20260419T225411
CREATED:20230803T210729Z
LAST-MODIFIED:20230911T171545Z
UID:5402-1698346800-1698346800@westplains.gov
SUMMARY:Ghouling Pianos
DESCRIPTION:Midwest Dueling Pianos interactive musical comedy experience will have you singing\, shouting\, dancing and laughing. The audience will provide the direction of the show to our performers by writing their favorite songs on request slips that they bring up to the pianos. Our young\, energetic and exciting entertainers then perform these songs\, while urging the audience to participate. The fact that many of their favorite Rock\, R&B and Rap songs can actually be performed on the piano will leave you wide-eyed and amazed. To further the crowd interaction\, we may also bring some of the audience up onto the stage to perform a song\, dance\, and/or skit for the crowd that will bring the house down. \n  \nGreat family friendly show!
URL:https://westplains.gov/event/ghouling-pianos/
LOCATION:Civic Center
CATEGORIES:Civic Center
END:VEVENT
BEGIN:VEVENT
DTSTART;TZID=UTC:20231026T080000
DTEND;TZID=UTC:20231026T090000
DTSTAMP:20260419T225411
CREATED:20230803T210418Z
LAST-MODIFIED:20230803T210418Z
UID:5400-1698307200-1698310800@westplains.gov
SUMMARY:Civic Center Board Meeting
DESCRIPTION:Located in Magnolia Room. Meeting starts promptly at 8:15am. Community is welcome!
URL:https://westplains.gov/event/civic-center-board-meeting-3/
LOCATION:Civic Center
CATEGORIES:Civic Center
END:VEVENT
BEGIN:VEVENT
DTSTART;TZID=UTC:20231025T183000
DTEND;TZID=UTC:20231025T183000
DTSTAMP:20260419T225411
CREATED:20230803T210302Z
LAST-MODIFIED:20230921T150629Z
UID:5398-1698258600-1698258600@westplains.gov
SUMMARY:MSU-WP Volleyball Game VS East Central
DESCRIPTION:Located in Arena. \nhttps://www.ticketmaster.com/event/06005EE6DF605B0A
URL:https://westplains.gov/event/msu-wp-volleyball-game-vs-east-central/
LOCATION:Civic Center
CATEGORIES:Civic Center
END:VEVENT
BEGIN:VEVENT
DTSTART;TZID=UTC:20231024T110000
DTEND;TZID=UTC:20231024T180000
DTSTAMP:20260419T225411
CREATED:20230803T210126Z
LAST-MODIFIED:20230803T210126Z
UID:5396-1698145200-1698170400@westplains.gov
SUMMARY:American Red Cross Blood Drive
DESCRIPTION:Located in the Exhibit Hall.
URL:https://westplains.gov/event/american-red-cross-blood-drive-2/
LOCATION:Civic Center
CATEGORIES:Civic Center
END:VEVENT
BEGIN:VEVENT
DTSTART;TZID=UTC:20231022T090000
DTEND;TZID=UTC:20231022T150000
DTSTAMP:20260419T225411
CREATED:20230803T210038Z
LAST-MODIFIED:20230803T210038Z
UID:5394-1697965200-1697986800@westplains.gov
SUMMARY:TLR Gun & Knife Show
DESCRIPTION:Located in Arena.
URL:https://westplains.gov/event/tlr-gun-knife-show-4/
LOCATION:Civic Center
CATEGORIES:Civic Center
END:VEVENT
BEGIN:VEVENT
DTSTART;TZID=UTC:20231021T090000
DTEND;TZID=UTC:20231021T170000
DTSTAMP:20260419T225411
CREATED:20230803T205955Z
LAST-MODIFIED:20230803T205955Z
UID:5392-1697878800-1697907600@westplains.gov
SUMMARY:TLR Gun & Knife Show
DESCRIPTION:Located in Arena.
URL:https://westplains.gov/event/tlr-gun-knife-show-3/
LOCATION:Civic Center
CATEGORIES:Civic Center
END:VEVENT
BEGIN:VEVENT
DTSTART;VALUE=DATE:20231009
DTEND;VALUE=DATE:20231010
DTSTAMP:20260419T225411
CREATED:20230622T231551Z
LAST-MODIFIED:20230622T231551Z
UID:4948-1696809600-1696895999@westplains.gov
SUMMARY:Box Office Closed
DESCRIPTION:Box Office closed in observance of Columbus Day
URL:https://westplains.gov/event/box-office-closed/
LOCATION:Civic Center
CATEGORIES:Civic Center
END:VEVENT
BEGIN:VEVENT
DTSTART;VALUE=DATE:20231006
DTEND;VALUE=DATE:20231008
DTSTAMP:20260419T225411
CREATED:20230622T231427Z
LAST-MODIFIED:20230921T150558Z
UID:4946-1696550400-1696723199@westplains.gov
SUMMARY:MSU-WP Volleyball Tournament
DESCRIPTION:October 6:      https://www.ticketmaster.com/event/06005EE6DF585B05 \nOctober 7: https://www.ticketmaster.com/event/06005EE6DF5B5B07
URL:https://westplains.gov/event/msu-wp-volleyball-tournament/
LOCATION:Civic Center
CATEGORIES:Civic Center
END:VEVENT
BEGIN:VEVENT
DTSTART;TZID=UTC:20231005T120000
DTEND;TZID=UTC:20231005T130000
DTSTAMP:20260419T225411
CREATED:20230622T231250Z
LAST-MODIFIED:20230622T231250Z
UID:4944-1696507200-1696510800@westplains.gov
SUMMARY:West Plains Chamber of Commerce Meeting
DESCRIPTION:Located in the Magnolia room.
URL:https://westplains.gov/event/west-plains-chamber-of-commerce-meeting-3/
LOCATION:Civic Center
CATEGORIES:Civic Center
END:VEVENT
BEGIN:VEVENT
DTSTART;TZID=UTC:20230929T160000
DTEND;TZID=UTC:20230929T230000
DTSTAMP:20260419T225411
CREATED:20230622T231145Z
LAST-MODIFIED:20230622T231145Z
UID:4942-1696003200-1696028400@westplains.gov
SUMMARY:West Plains Board of Realtors
DESCRIPTION:Board of Realtors Trivia Night \nLocated in Magnolia room.
URL:https://westplains.gov/event/west-plains-board-of-realtors/
LOCATION:Civic Center
CATEGORIES:Civic Center
END:VEVENT
BEGIN:VEVENT
DTSTART;TZID=UTC:20230928T080000
DTEND;TZID=UTC:20230928T090000
DTSTAMP:20260419T225411
CREATED:20230622T230830Z
LAST-MODIFIED:20230622T230830Z
UID:4940-1695888000-1695891600@westplains.gov
SUMMARY:Civic Center Board Meeting
DESCRIPTION:Located in Magnolia room. Meeting starts at 8:15 am promptly. Community welcome.
URL:https://westplains.gov/event/civic-center-board-meeting-2/
LOCATION:Civic Center
CATEGORIES:Civic Center
END:VEVENT
BEGIN:VEVENT
DTSTART;TZID=UTC:20230927T173000
DTEND;TZID=UTC:20230927T173000
DTSTAMP:20260419T225411
CREATED:20230622T230649Z
LAST-MODIFIED:20230921T150356Z
UID:4938-1695835800-1695835800@westplains.gov
SUMMARY:MSU-WP Volleyball Game Vs MAC
DESCRIPTION:https://www.ticketmaster.com/event/06005EE6DF565AF6
URL:https://westplains.gov/event/msu-wp-volleyball-game-vs-mac/
LOCATION:Civic Center
CATEGORIES:Civic Center
END:VEVENT
BEGIN:VEVENT
DTSTART;TZID=UTC:20230926T160000
DTEND;TZID=UTC:20230926T210000
DTSTAMP:20260419T225411
CREATED:20230622T230519Z
LAST-MODIFIED:20230622T230519Z
UID:4936-1695744000-1695762000@westplains.gov
SUMMARY:Air Med Awards Banquet
DESCRIPTION:Located in Exhibit Hall
URL:https://westplains.gov/event/air-med-awards-banquet/
LOCATION:Civic Center
CATEGORIES:Civic Center
END:VEVENT
BEGIN:VEVENT
DTSTART;TZID=UTC:20230923T180000
DTEND;TZID=UTC:20230923T210000
DTSTAMP:20260419T225411
CREATED:20230622T224711Z
LAST-MODIFIED:20230622T224711Z
UID:4934-1695492000-1695502800@westplains.gov
SUMMARY:West Plains Bank Go Club Picnic
DESCRIPTION:Located in the Exhibit Hall.
URL:https://westplains.gov/event/west-plains-bank-go-club-picnic/
LOCATION:Civic Center
CATEGORIES:Civic Center
END:VEVENT
BEGIN:VEVENT
DTSTART;TZID=UTC:20230923T080000
DTEND;TZID=UTC:20230923T193000
DTSTAMP:20260419T225411
CREATED:20230622T224520Z
LAST-MODIFIED:20230622T224520Z
UID:4932-1695456000-1695497400@westplains.gov
SUMMARY:MSU-WP Ozark Studies Symposium
DESCRIPTION:Located in the Magnolia room.
URL:https://westplains.gov/event/msu-wp-ozark-studies-symposium-2/
LOCATION:Civic Center
CATEGORIES:Civic Center
END:VEVENT
BEGIN:VEVENT
DTSTART;TZID=UTC:20230922T173000
DTEND;TZID=UTC:20230922T193000
DTSTAMP:20260419T225411
CREATED:20230622T224437Z
LAST-MODIFIED:20230622T224437Z
UID:4930-1695403800-1695411000@westplains.gov
SUMMARY:MSU-WP Ozark Studies Symposium
DESCRIPTION:Located in Theater.
URL:https://westplains.gov/event/msu-wp-ozark-studies-symposium/
LOCATION:Civic Center
CATEGORIES:Civic Center
END:VEVENT
END:VCALENDAR