BEGIN:VCALENDAR
VERSION:2.0
PRODID:-//City of West Plains - ECPv6.14.2//NONSGML v1.0//EN
CALSCALE:GREGORIAN
METHOD:PUBLISH
X-ORIGINAL-URL:https://westplains.gov
X-WR-CALDESC:Events for City of West Plains
REFRESH-INTERVAL;VALUE=DURATION:PT1H
X-Robots-Tag:noindex
X-PUBLISHED-TTL:PT1H
BEGIN:VTIMEZONE
TZID:UTC
BEGIN:STANDARD
TZOFFSETFROM:+0000
TZOFFSETTO:+0000
TZNAME:UTC
DTSTART:20240101T000000
END:STANDARD
END:VTIMEZONE
BEGIN:VEVENT
DTSTART;TZID=UTC:20240806T180000
DTEND;TZID=UTC:20240806T210000
DTSTAMP:20260420T023021
CREATED:20230510T002404Z
LAST-MODIFIED:20240607T130033Z
UID:4308-1722967200-1722978000@westplains.gov
SUMMARY:National Night Out
DESCRIPTION:41th Annual National Night Out \nNational Night Out is designed to: (1) To spread awareness about crime and drug prevention; (2) Generate support for\, and participation in\, local anticrime efforts; (3) Strengthen neighborhood bonds and police-community partnerships; and (4) Send a message to criminals letting them know neighborhoods are organized and fighting back. \n\nHow can you take part: \nFrom 6:00 PM to 9:00 PM on August 1st\, residents in neighborhoods throughout West Plains and across the nation\, are asked to lock their doors\, turn on outside lights and spend the evening outside with neighbors and police. Many neighborhoods throughout West Plains will be hosting a variety of special events such as block parties\, cookouts\, Ice Cream Socials\, visits from the police\, flashlight walks\, contests\, youth activities and anticrime rallies. \n\n\nPlease fill out this FORM if you are going to host an event. This form will be used to help us find and attend as many of the events as we\, Fire and/or EMS can. There are also paper copies inside the lobby of the West Plains Police Department.
URL:https://westplains.gov/event/national-night-out/
LOCATION:Lincoln School\, 1400 E Pony Thomas\, West Plains\, MO\, 65775\, United States
CATEGORIES:Police
ATTACH;FMTTYPE=image/jpeg:https://westplains.gov/wp-content/uploads/2023/05/NNO-2024.jpg
END:VEVENT
END:VCALENDAR