BEGIN:VCALENDAR
VERSION:2.0
PRODID:-//City of West Plains - ECPv6.14.2//NONSGML v1.0//EN
CALSCALE:GREGORIAN
METHOD:PUBLISH
X-ORIGINAL-URL:https://westplains.gov
X-WR-CALDESC:Events for City of West Plains
REFRESH-INTERVAL;VALUE=DURATION:PT1H
X-Robots-Tag:noindex
X-PUBLISHED-TTL:PT1H
BEGIN:VTIMEZONE
TZID:America/New_York
BEGIN:DAYLIGHT
TZOFFSETFROM:-0500
TZOFFSETTO:-0400
TZNAME:EDT
DTSTART:20240310T070000
END:DAYLIGHT
BEGIN:STANDARD
TZOFFSETFROM:-0400
TZOFFSETTO:-0500
TZNAME:EST
DTSTART:20241103T060000
END:STANDARD
END:VTIMEZONE
BEGIN:VEVENT
DTSTART;TZID=America/New_York:20240614T120000
DTEND;TZID=America/New_York:20240614T140000
DTSTAMP:20260422T061009
CREATED:20240607T130542Z
LAST-MODIFIED:20240607T130542Z
UID:9539-1718366400-1718373600@westplains.gov
SUMMARY:Community Meet and Greet
DESCRIPTION:Come by and join us at Spring Dipper west plains on June 14th\, 2024\, from 12 to 2. Just a chance to ask questions\, voice concerns\, and get to know the people that serve our community.
URL:https://westplains.gov/event/community-meet-and-greet/
LOCATION:Spring Dipper – West Plains\, 675 Missouri Ave\, West Plains\, MO\, 65775\, United States
CATEGORIES:Police
ATTACH;FMTTYPE=image/png:https://westplains.gov/wp-content/uploads/2024/06/Cones-Cops.png
END:VEVENT
END:VCALENDAR