BEGIN:VCALENDAR
VERSION:2.0
PRODID:-//City of West Plains - ECPv6.14.2//NONSGML v1.0//EN
CALSCALE:GREGORIAN
METHOD:PUBLISH
X-ORIGINAL-URL:https://westplains.gov
X-WR-CALDESC:Events for City of West Plains
REFRESH-INTERVAL;VALUE=DURATION:PT1H
X-Robots-Tag:noindex
X-PUBLISHED-TTL:PT1H
BEGIN:VTIMEZONE
TZID:America/New_York
BEGIN:DAYLIGHT
TZOFFSETFROM:-0500
TZOFFSETTO:-0400
TZNAME:EDT
DTSTART:20240310T070000
END:DAYLIGHT
BEGIN:STANDARD
TZOFFSETFROM:-0400
TZOFFSETTO:-0500
TZNAME:EST
DTSTART:20241103T060000
END:STANDARD
END:VTIMEZONE
BEGIN:VEVENT
DTSTART;TZID=America/New_York:20240412T080000
DTEND;TZID=America/New_York:20240412T080000
DTSTAMP:20260422T091019
CREATED:20240111T212316Z
LAST-MODIFIED:20240111T212316Z
UID:7696-1712908800-1712908800@westplains.gov
SUMMARY:West Plains R-7 Kindergarten Screening
DESCRIPTION:Located in Dogwood rooms on East side
URL:https://westplains.gov/event/west-plains-r-7-kindergarten-screening-3/
LOCATION:Civic Center
CATEGORIES:Police
END:VEVENT
END:VCALENDAR