BEGIN:VCALENDAR
VERSION:2.0
PRODID:-//City of West Plains - ECPv6.14.2//NONSGML v1.0//EN
CALSCALE:GREGORIAN
METHOD:PUBLISH
X-WR-CALNAME:City of West Plains
X-ORIGINAL-URL:https://westplains.gov
X-WR-CALDESC:Events for City of West Plains
REFRESH-INTERVAL;VALUE=DURATION:PT1H
X-Robots-Tag:noindex
X-PUBLISHED-TTL:PT1H
BEGIN:VTIMEZONE
TZID:America/New_York
BEGIN:DAYLIGHT
TZOFFSETFROM:-0500
TZOFFSETTO:-0400
TZNAME:EDT
DTSTART:20250309T070000
END:DAYLIGHT
BEGIN:STANDARD
TZOFFSETFROM:-0400
TZOFFSETTO:-0500
TZNAME:EST
DTSTART:20251102T060000
END:STANDARD
END:VTIMEZONE
BEGIN:VEVENT
DTSTART;TZID=America/New_York:20250816T080000
DTEND;TZID=America/New_York:20250816T170000
DTSTAMP:20260419T142605
CREATED:20250611T152056Z
LAST-MODIFIED:20250611T152056Z
UID:13144-1755331200-1755363600@westplains.gov
SUMMARY:Southern MO Card Show
DESCRIPTION:Located in Exhibit Hall
URL:https://westplains.gov/event/southern-mo-card-show/
LOCATION:Civic Center
CATEGORIES:Civic Center
END:VEVENT
END:VCALENDAR