BEGIN:VCALENDAR
VERSION:2.0
PRODID:-//City of West Plains - ECPv6.14.2//NONSGML v1.0//EN
CALSCALE:GREGORIAN
METHOD:PUBLISH
X-ORIGINAL-URL:https://westplains.gov
X-WR-CALDESC:Events for City of West Plains
REFRESH-INTERVAL;VALUE=DURATION:PT1H
X-Robots-Tag:noindex
X-PUBLISHED-TTL:PT1H
BEGIN:VTIMEZONE
TZID:America/New_York
BEGIN:DAYLIGHT
TZOFFSETFROM:-0500
TZOFFSETTO:-0400
TZNAME:EDT
DTSTART:20250309T070000
END:DAYLIGHT
BEGIN:STANDARD
TZOFFSETFROM:-0400
TZOFFSETTO:-0500
TZNAME:EST
DTSTART:20251102T060000
END:STANDARD
END:VTIMEZONE
BEGIN:VEVENT
DTSTART;VALUE=DATE:20250409
DTEND;VALUE=DATE:20250412
DTSTAMP:20260421T042425
CREATED:20250303T200429Z
LAST-MODIFIED:20250303T200429Z
UID:12144-1744156800-1744415999@westplains.gov
SUMMARY:WP R-7 Pre-K and Kindergarten Screening
DESCRIPTION:Located in Dogwood Rooms
URL:https://westplains.gov/event/wp-r-7-pre-k-and-kindergarten-screening/
LOCATION:Civic Center
CATEGORIES:Civic Center
END:VEVENT
BEGIN:VEVENT
DTSTART;TZID=America/New_York:20250410T110000
DTEND;TZID=America/New_York:20250410T180000
DTSTAMP:20260421T042425
CREATED:20250303T200517Z
LAST-MODIFIED:20250303T200517Z
UID:12146-1744282800-1744308000@westplains.gov
SUMMARY:American Red Cross Blood Drive
DESCRIPTION:Located in Exhibit Hall
URL:https://westplains.gov/event/american-red-cross-blood-drive-8/
LOCATION:Civic Center
CATEGORIES:Civic Center
END:VEVENT
END:VCALENDAR