BEGIN:VCALENDAR
VERSION:2.0
PRODID:-//City of West Plains - ECPv6.14.2//NONSGML v1.0//EN
CALSCALE:GREGORIAN
METHOD:PUBLISH
X-ORIGINAL-URL:https://westplains.gov
X-WR-CALDESC:Events for City of West Plains
REFRESH-INTERVAL;VALUE=DURATION:PT1H
X-Robots-Tag:noindex
X-PUBLISHED-TTL:PT1H
BEGIN:VTIMEZONE
TZID:America/New_York
BEGIN:DAYLIGHT
TZOFFSETFROM:-0500
TZOFFSETTO:-0400
TZNAME:EDT
DTSTART:20250309T070000
END:DAYLIGHT
BEGIN:STANDARD
TZOFFSETFROM:-0400
TZOFFSETTO:-0500
TZNAME:EST
DTSTART:20251102T060000
END:STANDARD
END:VTIMEZONE
BEGIN:VEVENT
DTSTART;VALUE=DATE:20250401
DTEND;VALUE=DATE:20250402
DTSTAMP:20260419T184200
CREATED:20250117T213039Z
LAST-MODIFIED:20250117T213039Z
UID:11707-1743465600-1743551999@westplains.gov
SUMMARY:Polling Location
DESCRIPTION:Located in Walnut Room
URL:https://westplains.gov/event/polling-location/
LOCATION:Civic Center
CATEGORIES:Civic Center
END:VEVENT
BEGIN:VEVENT
DTSTART;TZID=America/New_York:20250401T170000
DTEND;TZID=America/New_York:20250401T190000
DTSTAMP:20260419T184200
CREATED:20250304T224612Z
LAST-MODIFIED:20250304T224612Z
UID:12200-1743526800-1743534000@westplains.gov
SUMMARY:WP Optimist Club T-Ball Sign Up
DESCRIPTION:Located in West Lobby
URL:https://westplains.gov/event/wp-optimist-club-t-ball-sign-up-2/
LOCATION:Civic Center
CATEGORIES:Civic Center
END:VEVENT
BEGIN:VEVENT
DTSTART;TZID=America/New_York:20250403T120000
DTEND;TZID=America/New_York:20250403T120000
DTSTAMP:20260419T184200
CREATED:20250117T213118Z
LAST-MODIFIED:20250117T213118Z
UID:11709-1743681600-1743681600@westplains.gov
SUMMARY:West Plains Chamber of Commerce Luncheon Meeting
DESCRIPTION:Located in Magnolia
URL:https://westplains.gov/event/west-plains-chamber-of-commerce-luncheon-meeting/
LOCATION:Civic Center
CATEGORIES:Civic Center
END:VEVENT
BEGIN:VEVENT
DTSTART;TZID=America/New_York:20250403T170000
DTEND;TZID=America/New_York:20250403T190000
DTSTAMP:20260419T184200
CREATED:20250303T194615Z
LAST-MODIFIED:20250303T194906Z
UID:12138-1743699600-1743706800@westplains.gov
SUMMARY:WP Optimist Club T-Ball Sign Up
DESCRIPTION:Located in West Lobby
URL:https://westplains.gov/event/wp-optimist-club-t-ball-sign-up/
LOCATION:Civic Center
CATEGORIES:Civic Center
END:VEVENT
BEGIN:VEVENT
DTSTART;TZID=America/New_York:20250407T080000
DTEND;TZID=America/New_York:20250407T170000
DTSTAMP:20260419T184200
CREATED:20250303T194838Z
LAST-MODIFIED:20250303T194838Z
UID:12140-1744012800-1744045200@westplains.gov
SUMMARY:Lifeline Screening of America
DESCRIPTION:Located in the Dogwood Rooms
URL:https://westplains.gov/event/lifeline-screening-of-america/
LOCATION:Civic Center
CATEGORIES:Civic Center
END:VEVENT
BEGIN:VEVENT
DTSTART;TZID=America/New_York:20250408T170000
DTEND;TZID=America/New_York:20250408T210000
DTSTAMP:20260419T184200
CREATED:20250303T200340Z
LAST-MODIFIED:20250303T200340Z
UID:12142-1744131600-1744146000@westplains.gov
SUMMARY:WPCA Spring Ceramic Truck Workshop
DESCRIPTION:Dogwood Rooms 1 & 2
URL:https://westplains.gov/event/wpca-spring-ceramic-truck-workshop/
LOCATION:Civic Center
CATEGORIES:Civic Center
END:VEVENT
BEGIN:VEVENT
DTSTART;VALUE=DATE:20250409
DTEND;VALUE=DATE:20250412
DTSTAMP:20260419T184200
CREATED:20250303T200429Z
LAST-MODIFIED:20250303T200429Z
UID:12144-1744156800-1744415999@westplains.gov
SUMMARY:WP R-7 Pre-K and Kindergarten Screening
DESCRIPTION:Located in Dogwood Rooms
URL:https://westplains.gov/event/wp-r-7-pre-k-and-kindergarten-screening/
LOCATION:Civic Center
CATEGORIES:Civic Center
END:VEVENT
BEGIN:VEVENT
DTSTART;TZID=America/New_York:20250410T110000
DTEND;TZID=America/New_York:20250410T180000
DTSTAMP:20260419T184200
CREATED:20250303T200517Z
LAST-MODIFIED:20250303T200517Z
UID:12146-1744282800-1744308000@westplains.gov
SUMMARY:American Red Cross Blood Drive
DESCRIPTION:Located in Exhibit Hall
URL:https://westplains.gov/event/american-red-cross-blood-drive-8/
LOCATION:Civic Center
CATEGORIES:Civic Center
END:VEVENT
BEGIN:VEVENT
DTSTART;VALUE=DATE:20250412
DTEND;VALUE=DATE:20250413
DTSTAMP:20260419T184200
CREATED:20250303T200659Z
LAST-MODIFIED:20250303T200659Z
UID:12148-1744416000-1744502399@westplains.gov
SUMMARY:MSU - WP Music Festival
DESCRIPTION:
URL:https://westplains.gov/event/msu-wp-music-festival/
LOCATION:Civic Center
CATEGORIES:Civic Center
END:VEVENT
BEGIN:VEVENT
DTSTART;VALUE=DATE:20250425
DTEND;VALUE=DATE:20250428
DTSTAMP:20260419T184200
CREATED:20250303T202236Z
LAST-MODIFIED:20250303T202236Z
UID:12150-1745539200-1745798399@westplains.gov
SUMMARY:OzCon
DESCRIPTION:Located in Arena and Exhibit Hall
URL:https://westplains.gov/event/ozcon/
LOCATION:Civic Center
CATEGORIES:Civic Center
END:VEVENT
END:VCALENDAR